BEGIN:VCALENDAR
VERSION:2.0
BEGIN:VEVENT
URL:https://donateway.com/event/NeSRvVW2/the-2023-annual-habla-con-orgullo-awards
SUMMARY;LANGUAGE=en-us:The 2023 Annual HABLA con ORGULLO Awards
DESCRIPTION:The 2023 Annual HABLA con ORGULLO Awards
During Hispanic Heritage Month HABLA recognizes and awards individuals/organizations with the HABLA Con Orgullo Award as we celebrate the leadership and impacts of Latinos in Austin, Texas.
Join us Thursday, September 21, 2023, 6pm - 9pm at Capital Venue, 10401 Old Lockhart Hwy, Austin, TX 78747 for our Annual 2023 HABLA con ORGULLO Awards &amp;ndash; Celebrating Legado, Liderazgo y Latinidad.
Join us as we celebrate LATINIDAD, Networking, Cocktails, Food and Music!
SPONSORSHIP OPPORTUNITIES ARE NOW AVAILABLE! *Deadline for Sponsorships is September 14th, 2023
LEGADO - $1,000 (Reserved Table of 10 VIP, Banner at event, Logo on promotion for event - social media, program, sponsorship board) SOLD OUT
LIDERAZGO - $500 (6 VIP tickets, Logo on promotion for event - social media, program, sponsorship board) SOLD OUT
LATINIDAD - $250 (4 VIP tickets, Logo on promotion for event - social media, program, sponsorship board) SOLD OUT
ORGULLO - $100 (2 VIP tickets) SOLD OUT
HABLA AMIGO - $25 (1 ticket)
*VIP tickets provide access to the VIP reception upstairs in the private bar area with 2 drinks tickets, networking with nominees, sponsors &amp;amp; mariachi music!
                                                                                                                                                                                                                                                                                                                                                                                                                                                                                                                                                                                                                                                              
DTSTART:20230921T230000Z
DTEND:20230922T020000Z
LOCATION:The Capital Venue 10401 Old Lockhart Hwy, Austin, TX 78747
END:VEVENT
END:VCALENDAR
