BEGIN:VCALENDAR
VERSION:2.0
BEGIN:VEVENT
URL:https://donateway.com/event/uyA6ckma/stephanie-limon-bazan-for-state-board-of-education
SUMMARY;LANGUAGE=en-us:Stephanie Limon Bazan for State Board of Education
DESCRIPTION:Join our House Party for Stephanie Limon Bazan for State Board of Education hosted by Robin Lerner and Lane Becker &amp;amp; Courtney SkottThis is an important runoff for the State Board of Education, a volunteer role that makes curriculum decisions for over 5.5 million Texas school children. Come hear Stephanie talk about what&amp;rsquo;s at stake, her priorities, and what she is uniquely positioned to bring to the role.Stephanie is a public school advocate, nonprofit leader, experienced board member and former educator.                               
DTSTART:20260426T210000Z
DTEND:20260426T223000Z
LOCATION:2111 Airole Way
END:VEVENT
END:VCALENDAR
